BEGIN:VCALENDAR
VERSION:2.0
PRODID:-//ChamberMaster//Event Calendar 2.0//EN
METHOD:PUBLISH
X-PUBLISHED-TTL:P3D
REFRESH-INTERVAL:P3D
CALSCALE:GREGORIAN
BEGIN:VEVENT
DTSTART:20130424T173000Z
DTEND:20130424T183000Z
X-MICROSOFT-CDO-ALLDAYEVENT:FALSE
SUMMARY:Navigating Bid Opportunities 2.0
DESCRIPTION:Discover research and the tools available to find the perfect contract.  This is part of  the Procurement and Technical Assistance Center (PTAC) of the Flint & Genesee Chamber of Commerce's five-course series that will develop your skills in the government marketplace. At the end of the training curriculum you will receive a certification of completion in government contracting.\n\nUpcoming trainings:\n\n	May 15: State Contract Opportunities 3.0\n	May 22: Preparing a State Proposal 4.0\n	June 12: Flint & Genesee Contract Opportunities 5.0\n\nTo register: Contact Chelsea Schutz at (810) 600-1437 or ptac@flintandgenesee.org.
X-ALT-DESC;FMTTYPE=text/html:Discover research and the tools available to find the perfect contract.  This is part of  the Procurement and Technical Assistance Center (PTAC) of the Flint &amp\; Genesee Chamber of Commerce's five-course series that will develop your skills in the government marketplace. At the end of the training curriculum you will receive a certification of completion in government contracting.\n\nUpcoming trainings:\n<ul>\n	<li>May 15: State Contract Opportunities 3.0</li>\n	<li>May 22: Preparing a State Proposal 4.0</li>\n	<li>June 12: Flint &amp\; Genesee Contract Opportunities 5.0</li>\n</ul>\n<strong>To register:</strong> Contact Chelsea Schutz at (810) 600-1437 or <a href="mailto:ptac@flintandgenesee.org">ptac@flintandgenesee.org</a>.
LOCATION:Grand Blanc City Hall 203 East Grand Blanc Rd. Grand Blanc MI 48439
UID:e.2606.121
SEQUENCE:3
DTSTAMP:20260422T055529Z
URL:https://members.flintandgeneseechamber.org/events/details/navigating-bid-opportunities-2-0-04-24-2013-121
END:VEVENT

END:VCALENDAR
