BEGIN:VCALENDAR
VERSION:2.0
PRODID:-//ChamberMaster//Event Calendar 2.0//EN
METHOD:PUBLISH
X-PUBLISHED-TTL:P3D
REFRESH-INTERVAL:P3D
CALSCALE:GREGORIAN
BEGIN:VEVENT
DTSTART:20130724T173000Z
DTEND:20130724T183000Z
X-MICROSOFT-CDO-ALLDAYEVENT:FALSE
SUMMARY:Navigating Bid Opportunities 2.0 in Fenton
DESCRIPTION:Discover research and the tools available to find the perfect contract.  This is part of  the Procurement and Technical Assistance Center (PTAC) of the Flint & Genesee Chamber of Commerce’s five-course series that will develop your skills in the government marketplace. At the end of the training curriculum you will receive a certification of completion in government contracting.\n\nUpcoming trainings:\n\n	August 7: State Contract Opportunities 3.0 @ 1:30 through GoToMeeting Webinar\n	August 21: Elements of a State Proposal 4.0 @ 1:30 through GoToMeeting Webinar\n	September 11: Flint & Genesee Contract Opportunities 5.0 @ 1:30 p.m. Downtown Flint at Flint & Genesee Chamber of Commerce\n\nTo register: Contact Chelsea Schutz at (810) 600-1437 or ptac@flintandgenesee.org. This seminar will be held at Fenton City Hall in Fenton.
X-ALT-DESC;FMTTYPE=text/html:Discover research and the tools available to find the perfect contract.  This is part of  the Procurement and Technical Assistance Center (PTAC) of the Flint &amp\; Genesee Chamber of Commerce’s five-course series that will develop your skills in the government marketplace. At the end of the training curriculum you will receive a certification of completion in government contracting.\n\nUpcoming trainings:\n<ul>\n	<li><strong>August 7:</strong> State Contract Opportunities 3.0 @ 1:30 through GoToMeeting Webinar</li>\n	<li><strong>August 21:</strong> Elements of a State Proposal 4.0 @ 1:30 through GoToMeeting Webinar</li>\n	<li><strong>September 11:</strong> Flint &amp\; Genesee Contract Opportunities 5.0 @ 1:30 p.m. Downtown Flint at Flint &amp\; Genesee Chamber of Commerce</li>\n</ul>\n<strong>To register:</strong> Contact Chelsea Schutz at (810) 600-1437 or <a href="mailto:ptac@flintandgenesee.org">ptac@flintandgenesee.org</a>. This seminar will be held at Fenton City Hall in Fenton.
LOCATION:Fenton City Hall Fenton City Hall\, 301 S. Leroy St. Fenton MI 48430
UID:e.2606.205
SEQUENCE:3
DTSTAMP:20260422T010101Z
URL:https://members.flintandgeneseechamber.org/events/details/navigating-bid-opportunities-2-0-in-fenton-07-24-2013-205
END:VEVENT

END:VCALENDAR
