BEGIN:VCALENDAR
VERSION:2.0
PRODID:-//ChamberMaster//Event Calendar 2.0//EN
METHOD:PUBLISH
X-PUBLISHED-TTL:P3D
REFRESH-INTERVAL:P3D
CALSCALE:GREGORIAN
BEGIN:VEVENT
DTSTART:20131023T173000Z
DTEND:20131023T183000Z
X-MICROSOFT-CDO-ALLDAYEVENT:FALSE
SUMMARY:Navigating Bid Opportunities 2.0 in Flint
DESCRIPTION:Discover and research the tools available to find the perfect contract.  This is part of  the Procurement and Technical Assistance Center (PTAC) of the Flint & Genesee Chamber of Commerce’s five-course series that will develop your skills in the government marketplace. At the end of the training curriculum you will receive a certification of completion in government contracting.\n\nUpcoming trainings:\n\n	November 13: State Contract Opportunities 3.0 @ 1:30 through GoToMeeting Webinar\n	November 20: Elements of a State Proposal 4.0 @ 1:30 through GoToMeeting Webinar\n	December 4: Flint & Genesee Contract Opportunities 5.0 @ 1:30 p.m. Downtown Flint at Flint & Genesee Chamber of Commerce\n\nFor more information: Contact Chelsea Schutz at (810) 600-1437 or ptac@flintandgenesee.org.
X-ALT-DESC;FMTTYPE=text/html:Discover and research the tools available to find the perfect contract.  This is part of  the Procurement and Technical Assistance Center (PTAC) of the Flint &amp\; Genesee Chamber of Commerce’s five-course series that will develop your skills in the government marketplace. At the end of the training curriculum you will receive a certification of completion in government contracting.\n\nUpcoming trainings:\n<ul>\n	<li><strong>November 13:</strong> State Contract Opportunities 3.0 @ 1:30 through GoToMeeting Webinar</li>\n	<li><strong>November 20:</strong> Elements of a State Proposal 4.0 @ 1:30 through GoToMeeting Webinar</li>\n	<li><strong>December 4:</strong> Flint &amp\; Genesee Contract Opportunities 5.0 @ 1:30 p.m. Downtown Flint at Flint &amp\; Genesee Chamber of Commerce</li>\n</ul>\n<strong>For more information:</strong> Contact Chelsea Schutz at (810) 600-1437 or <a href="mailto:ptac@flintandgenesee.org">ptac@flintandgenesee.org</a>.
LOCATION:Flint/Genesee Job Corps Center 2400 North Saginaw Street Flint MI 48505
UID:e.2606.452
SEQUENCE:3
DTSTAMP:20260421T202847Z
URL:https://members.flintandgeneseechamber.org/events/details/navigating-bid-opportunities-2-0-in-flint-10-23-2013-452
END:VEVENT

END:VCALENDAR
