BEGIN:VCALENDAR
VERSION:2.0
PRODID:-//ChamberMaster//Event Calendar 2.0//EN
METHOD:PUBLISH
X-PUBLISHED-TTL:P3D
REFRESH-INTERVAL:P3D
CALSCALE:GREGORIAN
BEGIN:VEVENT
DTSTART:20130927T153000Z
DTEND:20130927T170000Z
X-MICROSOFT-CDO-ALLDAYEVENT:FALSE
SUMMARY:Navigating the Affordable Care Act: African American Advisory Committee Lunch & Learn
DESCRIPTION:Topic: Navigating the Affordable Care Act\n\nTarget Audience: Anyone interested in how the changes in health care reform will affect the employer\, employees\, retirees and healthcare providers.\n\nExpected Outcome:  An overview of the impact of upcoming changes to health care in layman's terms.\n\nCost: $10 (includes a boxed lunch)\; payment accepted at door\n\nLocation: Riverfront Center\, Michigan Center for Entrepreneurial Leadership of the School of Management\, University of Michigan-Flint\, Room 2317\n\nParking: Riverfront Ramp or Parking Lot at Kearsley & Saginaw Streets\n\nQuestions about the Lunch & Learn Series? Contact Linda Ryals-Massey at LRyalsMassey@comcast.net or 810.938.4608.\n\nRegister online or contact (810) 600-1422 or bsullivan@flintandgenesee.org.
X-ALT-DESC;FMTTYPE=text/html:Topic: Navigating the Affordable Care Act\n\nTarget Audience: Anyone interested in how the changes in health care reform will affect the employer\, employees\, retirees and healthcare providers.\n\nExpected Outcome:  An overview of the impact of upcoming changes to health care in layman's terms.\n\nCost: $10 (includes a boxed lunch)\; payment accepted at door\n\nLocation: Riverfront Center\, Michigan Center for Entrepreneurial Leadership of the School of Management\, University of Michigan-Flint\, Room 2317\n\nParking: Riverfront Ramp or Parking Lot at Kearsley &amp\; Saginaw Streets\n\nQuestions about the Lunch &amp\; Learn Series? Contact Linda Ryals-Massey at LRyalsMassey@comcast.net or 810.938.4608.\n\nRegister online or contact (810) 600-1422 or <a href="mailto:bsullivan@flintandgenesee.org">bsullivan@flintandgenesee.org</a>.
LOCATION:Riverfront Student Center University of Michigan-Flint Business School 1 Riverfront Center West Flint MI 48502
UID:e.2606.508
SEQUENCE:3
DTSTAMP:20260421T220513Z
URL:https://members.flintandgeneseechamber.org/events/details/navigating-the-affordable-care-act-african-american-advisory-committee-lunch-learn-09-27-2013-508
END:VEVENT

END:VCALENDAR
