BEGIN:VCALENDAR
VERSION:2.0
PRODID:-//ChamberMaster//Event Calendar 2.0//EN
METHOD:PUBLISH
X-PUBLISHED-TTL:P3D
REFRESH-INTERVAL:P3D
CALSCALE:GREGORIAN
BEGIN:VEVENT
DTSTART:20140722T123000Z
DTEND:20140722T133000Z
X-MICROSOFT-CDO-ALLDAYEVENT:FALSE
SUMMARY:New Member Coffee
DESCRIPTION:The Flint & Genesee Chamber of Commerce is rolling out the welcome mat for our newest members who joined between January 1 and June 30\, 2014.\n\nCome for coffee and pastries.  Meet our staff\, tour our office\, and get to know us better.
X-ALT-DESC;FMTTYPE=text/html:The Flint &amp\; Genesee Chamber of Commerce is rolling out the welcome mat for our newest members who joined between January 1 and June 30\, 2014.\n\nCome for coffee and pastries.  Meet our staff\, tour our office\, and get to know us better.\n\n&nbsp\;
LOCATION:Flint & Genesee Chamber of Commerce 519 S. Saginaw St.\, Suite 200 Flint MI 48502
UID:e.2606.1215
SEQUENCE:3
DTSTAMP:20260421T084530Z
URL:https://members.flintandgeneseechamber.org/events/details/new-member-coffee-07-22-2014-1215
END:VEVENT

END:VCALENDAR
