BEGIN:VCALENDAR
VERSION:2.0
PRODID:-//ChamberMaster//Event Calendar 2.0//EN
METHOD:PUBLISH
X-PUBLISHED-TTL:P3D
REFRESH-INTERVAL:P3D
CALSCALE:GREGORIAN
BEGIN:VEVENT
DTSTART:20260101T030000Z
DTEND:20260101T060000Z
X-MICROSOFT-CDO-ALLDAYEVENT:FALSE
SUMMARY:New Year's BLAST! Exclusive After Hours NYE Private Party
DESCRIPTION:Make waves at our New Year's Eve Blast\, our exclusive After Hours Private Party in the new Bavarian Blast Waterpark. Soak up the fun as we slide into 2026!\n\n  Snack Buffet\n\n  Candy & Snow Cones\n\n  Ride the Tide with Beats from our DJ\n\n  Countdown to Midnight\n\n  Magic Tricks\n\n  Balloon Animals\n\n  Swim-Up Bar for Adults\n\n  Fireworks at Midnight!\n\n  Cash Bar\n\n \n\n\n\n\n\n\n\nParty Only Guest: $79.95 | Overnight Guest: $49.95\n\nChildren 2 years & Under: Free\n\nCALL 1-855-652-7200 FOR MORE INFORMATION!
X-ALT-DESC;FMTTYPE=text/html:<div>\n<div>\n<div>\n<div>\n<div>\n<p>Make waves at our New Year&rsquo\;s Eve Blast\, our exclusive After Hours Private Party in the new Bavarian Blast&nbsp\;Waterpark. Soak up the fun as we slide into 2026!</p>\n\n<p>&bull\; Snack Buffet</p>\n\n<p>&bull\; Candy &amp\; Snow Cones</p>\n\n<p>&bull\; Ride the Tide with Beats from our DJ</p>\n\n<p>&bull\; Countdown to Midnight</p>\n\n<p>&bull\; Magic Tricks</p>\n\n<p>&bull\; Balloon Animals</p>\n\n<p>&bull\; Swim-Up Bar for Adults</p>\n\n<p>&bull\; Fireworks at Midnight!</p>\n\n<p>&bull\; Cash Bar</p>\n\n<p>&nbsp\;</p>\n</div>\n</div>\n</div>\n</div>\n</div>\n\n<div>\n<p>Party Only Guest: $79.95 | Overnight Guest: $49.95</p>\n\n<p>Children 2 years &amp\; Under: Free</p>\n\n<p>CALL&nbsp\;<a href="tel:18556527200" rel="noopener" target="_blank">1-855-652-7200</a>&nbsp\;FOR MORE INFORMATION!</p>\n</div>\n
LOCATION:Bavarian Blast Waterpark 1 Covered Bridge Ln\, Frankenmuth\, MI\, United States\, Michigan 48734
UID:e.2606.20109
SEQUENCE:3
DTSTAMP:20260421T174351Z
URL:https://members.flintandgeneseechamber.org/events/details/new-year-s-blast-exclusive-after-hours-nye-private-party-20109
END:VEVENT

END:VCALENDAR
