BEGIN:VCALENDAR
VERSION:2.0
PRODID:-//ChamberMaster//Event Calendar 2.0//EN
METHOD:PUBLISH
X-PUBLISHED-TTL:P3D
REFRESH-INTERVAL:P3D
CALSCALE:GREGORIAN
BEGIN:VEVENT
DTSTART:20130515T150000Z
DTEND:20130515T200000Z
X-MICROSOFT-CDO-ALLDAYEVENT:FALSE
SUMMARY:Newton International 1 Year Celebration
DESCRIPTION:Newton International is inviting you to their corporate office in Flint to celebrate 1 year in their new facility and working in the community.\n\nNewton International is a business services company specializing in recruitment and placement\, payroll\, and business consulting. Come spend an afternoon eating\, laughing and having fun with them.\n\nFriends and family welcome.  Lots of great food and door prizes.\n\nClick here to register.
X-ALT-DESC;FMTTYPE=text/html:Newton International is inviting you to their corporate office in Flint to celebrate 1 year in their new facility and working in the community.\n\nNewton International is a business services company specializing in recruitment and placement\, payroll\, and business consulting. Come spend an afternoon eating\, laughing and having fun with them.\n\nFriends and family welcome.  Lots of great food and door prizes.\n\n<a href="http://newtonintspring.eventbrite.com/#" target="_blank">Click here to register.</a>
LOCATION:Newton International 2110 W. Hill Road Flint MI 48507
UID:e.2606.161
SEQUENCE:3
DTSTAMP:20260422T042000Z
URL:https://members.flintandgeneseechamber.org/events/details/newton-international-1-year-celebration-05-15-2013-161
END:VEVENT

END:VCALENDAR
