BEGIN:VCALENDAR
VERSION:2.0
PRODID:-//ChamberMaster//Event Calendar 2.0//EN
METHOD:PUBLISH
X-PUBLISHED-TTL:P3D
REFRESH-INTERVAL:P3D
CALSCALE:GREGORIAN
BEGIN:VEVENT
DTSTART:20130515T150000Z
DTEND:20130515T200000Z
X-MICROSOFT-CDO-ALLDAYEVENT:FALSE
SUMMARY:Newton International Celebrating 1 Year!
DESCRIPTION:Its' Springtime in Michigan!   Newton International is inviting you to their corporate office in Flint to celebrate 1 year in their new facility and working in the community!\n\nFriends & Family welcome.  Lots of great food & door prizes!\n\nregister here:\n\nhttp://newtonintspring.eventbrite.com/
X-ALT-DESC;FMTTYPE=text/html:Its' Springtime in Michigan!   Newton International is inviting you to their corporate office in Flint to celebrate 1 year in their new facility and working in the community!\n\nFriends &amp\; Family welcome.  Lots of great food &amp\; door prizes!\n\nregister here:\n\n<a href="http://newtonintspring.eventbrite.com/">http://newtonintspring.eventbrite.com/</a>
LOCATION:
UID:e.2606.160
SEQUENCE:3
DTSTAMP:20260422T042117Z
URL:https://members.flintandgeneseechamber.org/events/details/newton-international-celebrating-1-year-05-15-2013-160
END:VEVENT

END:VCALENDAR
