BEGIN:VCALENDAR
VERSION:2.0
PRODID:-//ChamberMaster//Event Calendar 2.0//EN
METHOD:PUBLISH
X-PUBLISHED-TTL:P3D
REFRESH-INTERVAL:P3D
CALSCALE:GREGORIAN
BEGIN:VEVENT
DTSTART:20130615T180000Z
DTEND:20130616T190000Z
X-MICROSOFT-CDO-ALLDAYEVENT:FALSE
SUMMARY:''Nine Planets and Counting'' Sky Show at Longway Planetarium
DESCRIPTION:Explore all the possible planets in our Solar System (however many that might be) and find out why figuring out what a planet is and counting them isn't as easy as it sounds. The program includes a look at the Moon\, planets and constellations of the current night sky. This sky show starts at 2 p.m. and is recommended for ages 10 and older. For details and a schedule of upcoming shows visit www.sloanlongway.org.
X-ALT-DESC;FMTTYPE=text/html:Explore all the possible planets in our Solar System (however many that might be) and find out why figuring out what a planet is and counting them isn't as easy as it sounds. The program includes a look at the Moon\, planets and constellations of the current night sky. This sky show starts at 2 p.m. and is recommended for ages 10 and older. For details and a schedule of upcoming shows visit <a href="http://sloanlongway.org/" target="_blank">www.sloanlongway.org</a>.
LOCATION:Longway Planetarium 1310 E. Kearsley Street Flint Michigan
UID:e.2606.184
SEQUENCE:3
DTSTAMP:20260422T023344Z
URL:https://members.flintandgeneseechamber.org/events/details/nine-planets-and-counting-sky-show-at-longway-planetarium-06-15-2013-184
END:VEVENT

END:VCALENDAR
