BEGIN:VCALENDAR
VERSION:2.0
PRODID:-//ChamberMaster//Event Calendar 2.0//EN
METHOD:PUBLISH
X-PUBLISHED-TTL:P3D
REFRESH-INTERVAL:P3D
CALSCALE:GREGORIAN
BEGIN:VEVENT
DTSTART:20130522T123000Z
DTEND:20130522T200000Z
X-MICROSOFT-CDO-ALLDAYEVENT:FALSE
SUMMARY:Nonprofit Free & Low Cost Technology Tools Conference Day 2
DESCRIPTION:This conference will focus on Microsoft Office 365 for Nonprofits\, Tech Essentials\, and Giving on the Go. Once again\, the BEST Project has partnered with Highway T\, HandsOn Tech Detroit\, Microsoft Guru’s and our own local Terry Wisner to provide you with this daylong session.\n\nThe fee for this conference is $20.  For more information or to register\, please click here.
X-ALT-DESC;FMTTYPE=text/html:This conference will focus on Microsoft Office 365 for Nonprofits\, Tech Essentials\, and Giving on the Go. Once again\, the BEST Project has partnered with Highway T\, HandsOn Tech Detroit\, Microsoft Guru’s and our own local Terry Wisner to provide you with this daylong session.\n\nThe fee for this conference is $20.  For more information or to register\, please <a title="Nonprofit Free &amp\; Low Cost Technology Tools Conference" href="http://bestprojectonline.org/eventdetail.asp?id=413" target="_blank">click here</a>.
LOCATION:Riverfront Banquet Center 1 Riverfront Center West Flint MI 48502
UID:e.2606.170
SEQUENCE:3
DTSTAMP:20260422T041831Z
URL:https://members.flintandgeneseechamber.org/events/details/nonprofit-free-low-cost-technology-tools-conference-day-2-05-22-2013-170
END:VEVENT

END:VCALENDAR
