BEGIN:VCALENDAR
VERSION:2.0
PRODID:-//ChamberMaster//Event Calendar 2.0//EN
METHOD:PUBLISH
X-PUBLISHED-TTL:P3D
REFRESH-INTERVAL:P3D
CALSCALE:GREGORIAN
BEGIN:VEVENT
DTSTART;VALUE=DATE:20130727
DTEND;VALUE=DATE:20130728
TRANSP:TRANSPARENT
X-MICROSOFT-CDO-ALLDAYEVENT:TRUE
SUMMARY:Otisville Fun Days
DESCRIPTION:www.otisvillemi.com
X-ALT-DESC;FMTTYPE=text/html:<a href="http://www.otisvillemi.com/" target="_blank">www.otisvillemi.com</a>
LOCATION:
UID:e.2606.72
SEQUENCE:3
DTSTAMP:20260422T005509Z
URL:https://members.flintandgeneseechamber.org/events/details/otisville-fun-days-07-27-2013-72
END:VEVENT

END:VCALENDAR
