BEGIN:VCALENDAR
VERSION:2.0
PRODID:-//ChamberMaster//Event Calendar 2.0//EN
METHOD:PUBLISH
X-PUBLISHED-TTL:P3D
REFRESH-INTERVAL:P3D
CALSCALE:GREGORIAN
BEGIN:VEVENT
DTSTART;VALUE=DATE:20130920
DTEND;VALUE=DATE:20130922
TRANSP:TRANSPARENT
X-MICROSOFT-CDO-ALLDAYEVENT:TRUE
SUMMARY:Otisville ''Hot Dog Festival''
DESCRIPTION:Enjoy two days of fun featuring carnival rides\, softball tournaments\, music\, hot rod cars\, a truck & tractor show\, craft show\, a kid zone and lots of "Hot Dog" events such as a 5K Bun Run\, hot dog vendors\, hot dog propel contest\, "Top Dog" wiener dog race\, hot dog eating contest\, "Top Dog" tug of war and more. For a detailed schedule of activities visit www.otisvillemi.com.
X-ALT-DESC;FMTTYPE=text/html:Enjoy two days of fun featuring carnival rides\, softball tournaments\, music\, hot rod cars\, a truck &amp\; tractor show\, craft show\, a kid zone and lots of "Hot Dog" events such as a 5K Bun Run\, hot dog vendors\, hot dog propel contest\, "Top Dog" wiener dog race\, hot dog eating contest\, "Top Dog" tug of war and more. For a detailed schedule of activities visit <a href="http://www.otisvillemi.com/" target="_blank">www.otisvillemi.com</a>.
LOCATION:Downtown Otisville\, East Street East Street Otisville Michigan
UID:e.2606.241
SEQUENCE:3
DTSTAMP:20260421T220617Z
URL:https://members.flintandgeneseechamber.org/events/details/otisville-hot-dog-festival-09-20-2013-241
END:VEVENT

END:VCALENDAR
