BEGIN:VCALENDAR
VERSION:2.0
PRODID:-//ChamberMaster//Event Calendar 2.0//EN
METHOD:PUBLISH
X-PUBLISHED-TTL:P3D
REFRESH-INTERVAL:P3D
CALSCALE:GREGORIAN
BEGIN:VEVENT
DTSTART:20131214T120000Z
DTEND:20131214T220000Z
X-MICROSOFT-CDO-ALLDAYEVENT:FALSE
SUMMARY:Paintball For A Cause!
DESCRIPTION:Porter's Orchard and CRU Paintball present:  Paintball for a Cause!\n\nProceeds Help Benefit Old Newsboys & Toys For Tots!!\n\nSaturday\, December 14th\, 2013   7am - 5pm\n\nTotal Entry = $25 + paintballs must be prucahsed at Porter's for this event.  No outside paintballs Allowed!\n\nHot Food and Beverages will be available for purchase.
X-ALT-DESC;FMTTYPE=text/html:Porter's Orchard and CRU Paintball present:  Paintball for a Cause!\n\nProceeds Help Benefit Old Newsboys &amp\; Toys For Tots!!\n\nSaturday\, December 14th\, 2013   7am - 5pm\n\nTotal Entry = $25 + paintballs must be prucahsed at Porter's for this event.  No outside paintballs Allowed!\n\nHot Food and Beverages will be available for purchase.\n\n&nbsp\;
LOCATION:Porter's Orchard 12060 Hegel Rd. Goodrich MI 48438
UID:e.2606.624
SEQUENCE:3
DTSTAMP:20260421T171350Z
URL:https://members.flintandgeneseechamber.org/events/details/paintball-for-a-cause-12-14-2013-624
END:VEVENT

END:VCALENDAR
