BEGIN:VCALENDAR
VERSION:2.0
PRODID:-//ChamberMaster//Event Calendar 2.0//EN
METHOD:PUBLISH
X-PUBLISHED-TTL:P3D
REFRESH-INTERVAL:P3D
CALSCALE:GREGORIAN
BEGIN:VEVENT
DTSTART:20130522T173000Z
DTEND:20130522T183000Z
X-MICROSOFT-CDO-ALLDAYEVENT:FALSE
SUMMARY:Preparing a State Proposal 4.0 - Webinar
DESCRIPTION:Learn the secrets to winning a State of Michigan proposal. This is part of  the Procurement and Technical Assistance Center (PTAC) of the Flint & Genesee Chamber of Commerce’s five-course series that will develop your skills in the government marketplace. At the end of the training curriculum you will receive a certification of completion in government contracting.\n\nUpcoming trainings:\n\n	June 12: Flint & Genesee Contract Opportunities 5.0\n	July 3: Federal Contract Opportunities 1.0\n	July 24: Navigating Bid Opportunities 2.0\n	August 14: State Contract Opportunities 3.0\n\nTo register: Contact Chelsea Schutz at (810) 600-1437 or ptac@flintandgenesee.org.
X-ALT-DESC;FMTTYPE=text/html:Learn the secrets to winning a State of Michigan proposal. This is part of  the Procurement and Technical Assistance Center (PTAC) of the Flint &amp\; Genesee Chamber of Commerce’s five-course series that will develop your skills in the government marketplace. At the end of the training curriculum you will receive a certification of completion in government contracting.\n\nUpcoming trainings:\n<ul>\n	<li>June 12: Flint &amp\; Genesee Contract Opportunities 5.0</li>\n	<li>July 3: Federal Contract Opportunities 1.0</li>\n	<li>July 24: Navigating Bid Opportunities 2.0</li>\n	<li>August 14: State Contract Opportunities 3.0</li>\n</ul>\n<strong>To register:</strong> Contact Chelsea Schutz at (810) 600-1437 or <a href="mailto:ptac@flintandgenesee.org">ptac@flintandgenesee.org</a>.
LOCATION:
UID:e.2606.122
SEQUENCE:3
DTSTAMP:20260422T041533Z
URL:https://members.flintandgeneseechamber.org/events/details/preparing-a-state-proposal-4-0-webinar-05-22-2013-122
END:VEVENT

END:VCALENDAR
