BEGIN:VCALENDAR
VERSION:2.0
PRODID:-//ChamberMaster//Event Calendar 2.0//EN
METHOD:PUBLISH
X-PUBLISHED-TTL:P3D
REFRESH-INTERVAL:P3D
CALSCALE:GREGORIAN
BEGIN:VEVENT
DTSTART:20130313T173000Z
DTEND:20130313T173000Z
X-MICROSOFT-CDO-ALLDAYEVENT:FALSE
SUMMARY:PTAC Seminar: Flint & Genesee Contract Opportunities 4.0
DESCRIPTION:Cost: Free\n\nRegister Online: http://tinyurl.com/cfcqaae
X-ALT-DESC;FMTTYPE=text/html:Cost: Free\n\nRegister Online: <a href="http://tinyurl.com/cfcqaae " target="_blank">http://tinyurl.com/cfcqaae </a>
LOCATION:Flint & Genesee Chamber of Commerce 519 S. Saginaw St. Flint Michigan 48502
UID:e.2606.24
SEQUENCE:3
DTSTAMP:20260422T073237Z
URL:https://members.flintandgeneseechamber.org/events/details/ptac-seminar-flint-genesee-contract-opportunities-4-0-03-13-2013-24
END:VEVENT

END:VCALENDAR
