BEGIN:VCALENDAR
VERSION:2.0
PRODID:-//ChamberMaster//Event Calendar 2.0//EN
METHOD:PUBLISH
X-PUBLISHED-TTL:P3D
REFRESH-INTERVAL:P3D
CALSCALE:GREGORIAN
BEGIN:VEVENT
DTSTART:20130130T183000Z
DTEND:20130130T183000Z
X-MICROSOFT-CDO-ALLDAYEVENT:FALSE
SUMMARY:PTAC Seminar:Navigating Bid Opportunities 2.0
DESCRIPTION:Cost: Free\n\nRegister Online:  http://tinyurl.com/d2dv9kb
X-ALT-DESC;FMTTYPE=text/html:Cost: Free\n\nRegister Online:  <a href="http://tinyurl.com/d2dv9kb" target="_blank">http://tinyurl.com/d2dv9kb </a>
LOCATION:Flint & Genesee Chamber of Commerce 519 S. Saginaw St. Flint Michigan 48502
UID:e.2606.15
SEQUENCE:3
DTSTAMP:20260422T104423Z
URL:https://members.flintandgeneseechamber.org/events/details/ptac-seminar-navigating-bid-opportunities-2-0-01-30-2013-15
END:VEVENT

END:VCALENDAR
