BEGIN:VCALENDAR
VERSION:2.0
PRODID:-//ChamberMaster//Event Calendar 2.0//EN
METHOD:PUBLISH
X-PUBLISHED-TTL:P3D
REFRESH-INTERVAL:P3D
CALSCALE:GREGORIAN
BEGIN:VEVENT
DTSTART:20130123T180000Z
DTEND:20130123T203000Z
X-MICROSOFT-CDO-ALLDAYEVENT:FALSE
SUMMARY:PTAC Seminar: TARDEC Dual Use Technology Briefing
DESCRIPTION:Cost: Free
X-ALT-DESC;FMTTYPE=text/html:Cost: Free
LOCATION:Flint & Genesee Chamber of Commerce 519 S. Saginaw St Flint Michigan 48502
UID:e.2606.13
SEQUENCE:3
DTSTAMP:20260422T104346Z
URL:https://members.flintandgeneseechamber.org/events/details/ptac-seminar-tardec-dual-use-technology-briefing-01-23-2013-13
END:VEVENT

END:VCALENDAR
