BEGIN:VCALENDAR
VERSION:2.0
PRODID:-//ChamberMaster//Event Calendar 2.0//EN
METHOD:PUBLISH
X-PUBLISHED-TTL:P3D
REFRESH-INTERVAL:P3D
CALSCALE:GREGORIAN
BEGIN:VEVENT
DTSTART:20130220T180000Z
DTEND:20130220T184500Z
X-MICROSOFT-CDO-ALLDAYEVENT:FALSE
SUMMARY:PTAC: State Contract Opportunities 3.1
DESCRIPTION:Hear firsthand from the State of Michigan on what they need to do business with you.\n\nThis is part of our four part training series that will develop your skills in the government marketplace. At the end of the training curriculum you will receive a certification of completion in government contracting.\n\nTo register\, please contact Chelsea Schutz at: 810-600-1437 or ptac@thegrcc.org
X-ALT-DESC;FMTTYPE=text/html:Hear firsthand from the State of Michigan on what they need to do business with you.\n\nThis is part of our four part training series that will develop your skills in the government marketplace. At the end of the training curriculum you will receive a certification of completion in government contracting.\n\nTo register\, please contact Chelsea Schutz at: 810-600-1437 or ptac@thegrcc.org
LOCATION:Genesee Regional Chamber of Commerce 519 S. Saginaw Street Flint MI 48502
UID:e.2606.10
SEQUENCE:3
DTSTAMP:20260422T090808Z
URL:https://members.flintandgeneseechamber.org/events/details/ptac-state-contract-opportunities-3-1-02-20-2013-10
END:VEVENT

END:VCALENDAR
