BEGIN:VCALENDAR
VERSION:2.0
PRODID:-//ChamberMaster//Event Calendar 2.0//EN
METHOD:PUBLISH
X-PUBLISHED-TTL:P3D
REFRESH-INTERVAL:P3D
CALSCALE:GREGORIAN
BEGIN:VEVENT
DTSTART:20130227T183000Z
DTEND:20130227T183000Z
X-MICROSOFT-CDO-ALLDAYEVENT:FALSE
SUMMARY:PTAC Webinar: Preparing a State Proposal 3.2
DESCRIPTION:Cost: Free\n\nRegister Online: http://tinyurl.com/cr3kp66
X-ALT-DESC;FMTTYPE=text/html:Cost: Free\n\nRegister Online: <a href="http://tinyurl.com/cr3kp66" target="_blank">http://tinyurl.com/cr3kp66</a>\n\n&nbsp\;
LOCATION:
UID:e.2606.22
SEQUENCE:3
DTSTAMP:20260422T090618Z
URL:https://members.flintandgeneseechamber.org/events/details/ptac-webinar-preparing-a-state-proposal-3-2-02-27-2013-22
END:VEVENT

END:VCALENDAR
