BEGIN:VCALENDAR
VERSION:2.0
PRODID:-//ChamberMaster//Event Calendar 2.0//EN
METHOD:PUBLISH
X-PUBLISHED-TTL:P3D
REFRESH-INTERVAL:P3D
CALSCALE:GREGORIAN
BEGIN:VEVENT
DTSTART:20130220T183000Z
DTEND:20130220T183000Z
X-MICROSOFT-CDO-ALLDAYEVENT:FALSE
SUMMARY:PTAC Webinar: State Contract Opportunities 3.1
DESCRIPTION:Cost: Free\n\nRegister online: http://tinyurl.com/ceedg2s
X-ALT-DESC;FMTTYPE=text/html:Cost: Free\n\nRegister online: <a href="http://tinyurl.com/ceedg2s" target="_blank">http://tinyurl.com/ceedg2s</a>\n\n&nbsp\;
LOCATION:
UID:e.2606.19
SEQUENCE:3
DTSTAMP:20260422T092212Z
URL:https://members.flintandgeneseechamber.org/events/details/ptac-webinar-state-contract-opportunities-3-1-02-20-2013-19
END:VEVENT

END:VCALENDAR
