BEGIN:VCALENDAR
VERSION:2.0
PRODID:-//ChamberMaster//Event Calendar 2.0//EN
METHOD:PUBLISH
X-PUBLISHED-TTL:P3D
REFRESH-INTERVAL:P3D
CALSCALE:GREGORIAN
BEGIN:VEVENT
DTSTART;VALUE=DATE:20130922
DTEND;VALUE=DATE:20131101
TRANSP:TRANSPARENT
X-MICROSOFT-CDO-ALLDAYEVENT:TRUE
SUMMARY:''Pumpkin Fantasyland Tours'' at Montrose Orchards
DESCRIPTION:Take an enchanted hayride through Montrose Orchard's Pumpkin Fantasyland and enjoy many unique displays of your favorite childhood characters. Explore 200 acres from an old fashioned hay wagon! Have your tractor driver stop at the Pumpkin Patch to find that "perfect pumpkin." Return to the market to visit the Orchard's cider mill and sorting room. Then\, enjoy a campfire where you can cook your own hot dog and s'mores or enjoy a glass of freshly-squeezed\, cold apple cider and a freshly made donut! Tours run Friday from 3 p.m. to 6 p.m. and on Saturday and Sunday from 10 a.m. to 5 p.m. For details and a schedule of upcoming events visit www.montroseorchards.com.
X-ALT-DESC;FMTTYPE=text/html:<span style="font-family: Verdana\; font-size: small\;">Take an enchanted hayride through Montrose Orchard's <strong>Pumpkin Fantasyland</strong> and enjoy many unique displays of your favorite childhood characters. Explore 200 acres from an old fashioned hay wagon! Have your tractor driver stop at the Pumpkin Patch to find that "perfect pumpkin." Return to the market to visit the Orchard's cider mill and sorting room. Then\, enjoy a campfire where you can cook your own hot dog and s'mores or enjoy a glass of freshly-squeezed\, cold apple cider and a freshly made donut! Tours run Friday from 3 p.m. to 6 p.m. and on Saturday and Sunday from 10 a.m. to 5 p.m. For details and a schedule of upcoming events visit </span><a title="Montrose Orchards" href="http://www.montroseorchards.com/mainevent.html" target="_blank">www.montroseorchards.com</a>.
LOCATION:Montrose Orchards 12473 Seymour Road Montrose Michigan
UID:e.2606.71
SEQUENCE:3
DTSTAMP:20260421T203159Z
URL:https://members.flintandgeneseechamber.org/events/details/pumpkin-fantasyland-tours-at-montrose-orchards-09-22-2013-71
END:VEVENT

END:VCALENDAR
