BEGIN:VCALENDAR
VERSION:2.0
PRODID:-//ChamberMaster//Event Calendar 2.0//EN
METHOD:PUBLISH
X-PUBLISHED-TTL:P3D
REFRESH-INTERVAL:P3D
CALSCALE:GREGORIAN
BEGIN:VEVENT
DTSTART:20131030T153000Z
DTEND:20131030T170000Z
X-MICROSOFT-CDO-ALLDAYEVENT:FALSE
SUMMARY:Red Lobster Ribbon Cutting
DESCRIPTION:Celebrate and take a look at the beautiful interior and exterior of the newly renovated Red Lobster.\n\nRSVP  required\, 810-732-4910\n\nJason or Pamie
X-ALT-DESC;FMTTYPE=text/html:Celebrate and take a look at the beautiful interior and exterior of the newly renovated Red Lobster.\n\nRSVP  required\, 810-732-4910\n\nJason or Pamie\n\n&nbsp\;\n\n&nbsp\;
LOCATION:Red Lobster 4417 W Pierson Rd. Flint MI 48504
UID:e.2606.562
SEQUENCE:3
DTSTAMP:20260421T202721Z
URL:https://members.flintandgeneseechamber.org/events/details/red-lobster-ribbon-cutting-10-30-2013-562
END:VEVENT

END:VCALENDAR
