BEGIN:VCALENDAR
VERSION:2.0
PRODID:-//ChamberMaster//Event Calendar 2.0//EN
METHOD:PUBLISH
X-PUBLISHED-TTL:P3D
REFRESH-INTERVAL:P3D
CALSCALE:GREGORIAN
BEGIN:VEVENT
DTSTART:20140226T133000Z
DTEND:20140226T150000Z
X-MICROSOFT-CDO-ALLDAYEVENT:FALSE
SUMMARY:Resources to Launch: A Disability Works Seminar
DESCRIPTION:A guest speaker from the Employer Assistance and Resource Network (EARN) will provide valuable information on how your business can improve your workforce by hiring qualified employees with disabilities.  At this event\, you will connect with local resources that can support your business as you make this important transition.\n\nSpace is limited\, so reserve your seat by contacting Emily Riddles at (810) 742-1800\, ext. 324 or email emilyr@disnetwork.org.\n\nLight refreshments will be served.\n\nThis event is presented by Disability Works\, a committee of the Flint & Genesee Chamber of Commerce\, and the Disability Network.
X-ALT-DESC;FMTTYPE=text/html:A guest speaker from the Employer Assistance and Resource Network <a href="http://www.askearn.org/" target="_blank">(EARN)</a> will provide valuable information on how your business can improve your workforce by hiring qualified employees with disabilities.  At this event\, you will connect with local resources that can support your business as you make this important transition.\n\nSpace is limited\, so reserve your seat by contacting Emily Riddles at (810) 742-1800\, ext. 324 or email <a href="mailto:emilyr@disnetwork.org">emilyr@disnetwork.org</a>.\n\nLight refreshments will be served.\n\nThis event is presented by <a href="http://www.flintandgenesee.org/connect/committees/disability-works-committee/">Disability Works</a>\, a committee of the Flint &amp\; Genesee Chamber of Commerce\, and the <a href="http://www.disnetwork.org/" target="_blank">Disability Network</a>.
LOCATION:Newton International 2110 W Hill Rd Flint MI
UID:e.2606.426
SEQUENCE:3
DTSTAMP:20260421T142439Z
URL:https://members.flintandgeneseechamber.org/events/details/resources-to-launch-a-disability-works-seminar-02-26-2014-426
END:VEVENT

END:VCALENDAR
