BEGIN:VCALENDAR
VERSION:2.0
PRODID:-//ChamberMaster//Event Calendar 2.0//EN
METHOD:PUBLISH
X-PUBLISHED-TTL:P3D
REFRESH-INTERVAL:P3D
CALSCALE:GREGORIAN
BEGIN:VEVENT
DTSTART:20131203T190000Z
DTEND:20131204T000000Z
X-MICROSOFT-CDO-ALLDAYEVENT:FALSE
SUMMARY:Ribbon Cutting and Open House - Oliver-LaGore-Vanvalin Investment Group
DESCRIPTION:Join and Celebrate the OLV team's move to Downtown Flint\n\nRibbon Cutting Event with Mayor Walling\n\n602 E 2nd Ave\, #100\n\nFlint\, Mi 48502\n\nhttp://olvinvest.com/#!/
X-ALT-DESC;FMTTYPE=text/html:Join and Celebrate the OLV team's move to Downtown Flint\n\nRibbon Cutting Event with Mayor Walling\n\n602 E 2nd Ave\, #100\n\nFlint\, Mi 48502\n\n<a href="http://olvinvest.com/#!/">http://olvinvest.com/#!/</a>
LOCATION:
UID:e.2606.603
SEQUENCE:3
DTSTAMP:20260421T171726Z
URL:https://members.flintandgeneseechamber.org/events/details/ribbon-cutting-and-open-house-oliver-lagore-vanvalin-investment-group-12-03-2013-603
END:VEVENT

END:VCALENDAR
