BEGIN:VCALENDAR
VERSION:2.0
PRODID:-//ChamberMaster//Event Calendar 2.0//EN
METHOD:PUBLISH
X-PUBLISHED-TTL:P3D
REFRESH-INTERVAL:P3D
CALSCALE:GREGORIAN
BEGIN:VEVENT
DTSTART:20140522T150000Z
DTEND:20140522T160000Z
X-MICROSOFT-CDO-ALLDAYEVENT:FALSE
SUMMARY:Ribbon Cutting at Knob Hill Bed & Breakfast
DESCRIPTION:Please join us at Knob Hill Bed & Breakfast on May 22nd at 11:00 am for a Ribbon Cutting.  Located at 1105 South Drive Flint MI   48503 (off Miller Road near Powers High School).
X-ALT-DESC;FMTTYPE=text/html:Please join us at Knob Hill Bed &amp\; Breakfast on May 22nd at 11:00 am for a Ribbon Cutting.  Located at 1105 South Drive Flint MI   48503 (off Miller Road near Powers High School).
LOCATION:
UID:e.2606.1017
SEQUENCE:3
DTSTAMP:20260421T102142Z
URL:https://members.flintandgeneseechamber.org/events/details/ribbon-cutting-at-knob-hill-bed-breakfast-05-22-2014-1017
END:VEVENT

END:VCALENDAR
