BEGIN:VCALENDAR
VERSION:2.0
PRODID:-//ChamberMaster//Event Calendar 2.0//EN
METHOD:PUBLISH
X-PUBLISHED-TTL:P3D
REFRESH-INTERVAL:P3D
CALSCALE:GREGORIAN
BEGIN:VEVENT
DTSTART:20140226T150000Z
DTEND:20140226T160000Z
X-MICROSOFT-CDO-ALLDAYEVENT:FALSE
SUMMARY:Ribbon Cutting: Beef and Barley American Kitchen
DESCRIPTION:The hottest new menu in town can be found in the newly renovated space at 2055 S. Linden Rd.  Beef and Barley quietly opened its doors for business December 8th\, 2013 in the former Ruggero's restaurant location\, in the Lincor Park Shopping Center\, after a 4 month renovation completely remodeled every surface of the 6\,000 square foot building.  With the usual new restaurant jitters handled and behind them\, Beef and Barley is now planning a Grand Opening event scheduled for 10am\, February 26\, 2014.  The Grand Opening event will include a ribbon cutting ceremony\, hosted by the Flint & Genesee Chamber of Commerce\, soft drinks and appetizers provided by Beef and Barley.
X-ALT-DESC;FMTTYPE=text/html:The hottest new menu in town can be found in the newly renovated space at 2055 S. Linden Rd.  Beef and Barley quietly opened its doors for business December 8<sup>th</sup>\, 2013 in the former Ruggero's restaurant location\, in the Lincor Park Shopping Center\, after a 4 month renovation completely remodeled every surface of the 6\,000 square foot building.  With the usual new restaurant jitters handled and behind them\, Beef and Barley is now planning a Grand Opening event scheduled for 10am\, February 26\, 2014.  The Grand Opening event will include a ribbon cutting ceremony\, hosted by the Flint &amp\; Genesee Chamber of Commerce\, soft drinks and appetizers provided by Beef and Barley.\n\n&nbsp\;
LOCATION:Beef and Barley American Kitchen 2055 S. Linden Road Flint MI 48532
UID:e.2606.789
SEQUENCE:3
DTSTAMP:20260421T142816Z
URL:https://members.flintandgeneseechamber.org/events/details/ribbon-cutting-beef-and-barley-american-kitchen-02-26-2014-789
END:VEVENT

END:VCALENDAR
