BEGIN:VCALENDAR
VERSION:2.0
PRODID:-//ChamberMaster//Event Calendar 2.0//EN
METHOD:PUBLISH
X-PUBLISHED-TTL:P3D
REFRESH-INTERVAL:P3D
CALSCALE:GREGORIAN
BEGIN:VEVENT
DTSTART:20140320T140000Z
DTEND:20140320T150000Z
X-MICROSOFT-CDO-ALLDAYEVENT:FALSE
SUMMARY:Ribbon Cutting: Flip Flops Grill-n-Chill
DESCRIPTION:Flip Flops Grill -n- Chill is a unique Inland Beach Bar located in Flint Township\, Michigan that features ALL house made recipe's with fresh MICHIGAN ingredients when possible.  Enjoy the feel of being on vacation on a tropical beach year round in Mid-Michigan.   The Grand Opening event is scheduled for 11am\, March 20\, 2014.  The Grand Opening event will include a ribbon cutting ceremony\, hosted by the Flint & Genesee Chamber of Commerce.
X-ALT-DESC;FMTTYPE=text/html:Flip Flops Grill -n- Chill is a unique Inland Beach Bar located in Flint Township\, Michigan that features ALL house made recipe's with fresh MICHIGAN ingredients when possible.  Enjoy the feel of being on vacation on a tropical beach year round in Mid-Michigan.   The Grand Opening event is scheduled for 11am\, March 20\, 2014.  The Grand Opening event will include a ribbon cutting ceremony\, hosted by the Flint &amp\; Genesee Chamber of Commerce.\n\n&nbsp\;
LOCATION:Flip Flops Grill-n-Chill 2520 W. Hill Rd. Flint MI 48507
UID:e.2606.842
SEQUENCE:3
DTSTAMP:20260421T124930Z
URL:https://members.flintandgeneseechamber.org/events/details/ribbon-cutting-flip-flops-grill-n-chill-03-20-2014-842
END:VEVENT

END:VCALENDAR
