BEGIN:VCALENDAR
VERSION:2.0
PRODID:-//ChamberMaster//Event Calendar 2.0//EN
METHOD:PUBLISH
X-PUBLISHED-TTL:P3D
REFRESH-INTERVAL:P3D
CALSCALE:GREGORIAN
BEGIN:VEVENT
DTSTART:20131017T200000Z
DTEND:20131017T220000Z
X-MICROSOFT-CDO-ALLDAYEVENT:FALSE
SUMMARY:Ribbon Cutting for DM Burr - New Miller Road Location
DESCRIPTION:Please join The FGCC for a Ribbon Cutting as we welcome DM Burr's new location on Miller Rd to our Business Community!\n\nDate:  Thursday\, October 17\n\nTime:  4 pm\n\nPlace:  DM Burr\n\nG-3449 Miller Rd\n\nFlint\, MI 48507\n\n \n\nJoin us at our new location on Miller Rd at DM Burr Heating and Cooling for a Grand Opening/Ribbon Cutting! We will be serving BBQ and refreshments\, having special prices\, giveaways\, drawings and more!\n\nPlease visit website   www.dmburrcool.com
X-ALT-DESC;FMTTYPE=text/html:Please join The FGCC for a Ribbon Cutting as we welcome DM Burr's new location on Miller Rd to our Business Community!\n\nDate:  Thursday\, October 17\n\nTime:  4 pm\n\nPlace:  DM Burr\n\nG-3449 Miller Rd\n\nFlint\, MI 48507\n\n&nbsp\;\n\nJoin us at our new location on Miller Rd at DM Burr Heating and Cooling for a Grand Opening/Ribbon Cutting! We will be serving BBQ and refreshments\, having special prices\, giveaways\, drawings and more!\n\nPlease visit website   <a href="http://www.dmburrcool.com">www.dmburrcool.com</a>
LOCATION:DM Burr G-3449 Miller Road Flint MI 48507
UID:e.2606.556
SEQUENCE:3
DTSTAMP:20260421T203220Z
URL:https://members.flintandgeneseechamber.org/events/details/ribbon-cutting-for-dm-burr-new-miller-road-location-10-17-2013-556
END:VEVENT

END:VCALENDAR
