BEGIN:VCALENDAR
VERSION:2.0
PRODID:-//ChamberMaster//Event Calendar 2.0//EN
METHOD:PUBLISH
X-PUBLISHED-TTL:P3D
REFRESH-INTERVAL:P3D
CALSCALE:GREGORIAN
BEGIN:VEVENT
DTSTART:20131016T160000Z
DTEND:20131016T173000Z
X-MICROSOFT-CDO-ALLDAYEVENT:FALSE
SUMMARY:Ribbon Cutting for ICON Mortgage Lending
DESCRIPTION:Come join us for a Ribbon Cutting!  ICON Mortgage Lending!\n\nTime: Noon\n\nPlace: 5141 Gateway Centre\, Ste 200\n\nFlint\, MI 48507
X-ALT-DESC;FMTTYPE=text/html:Come join us for a Ribbon Cutting!  ICON Mortgage Lending!\n\nTime: Noon\n\nPlace: 5141 Gateway Centre\, Ste 200\n\nFlint\, MI 48507\n\n&nbsp\;
LOCATION:ICON Mortgage Lending 5141 Gateway Centre\, Ste 200 Flint MI 48507
UID:e.2606.555
SEQUENCE:3
DTSTAMP:20260421T202928Z
URL:https://members.flintandgeneseechamber.org/events/details/ribbon-cutting-for-icon-mortgage-lending-10-16-2013-555
END:VEVENT

END:VCALENDAR
