BEGIN:VCALENDAR
VERSION:2.0
PRODID:-//ChamberMaster//Event Calendar 2.0//EN
METHOD:PUBLISH
X-PUBLISHED-TTL:P3D
REFRESH-INTERVAL:P3D
CALSCALE:GREGORIAN
BEGIN:VEVENT
DTSTART:20140520T140000Z
DTEND:20140520T153000Z
X-MICROSOFT-CDO-ALLDAYEVENT:FALSE
SUMMARY:Ribbon Cutting-Grace and Charm
DESCRIPTION:Join Walethia Aquil to celebrate her move to Downtown Flint\n\n412 South Saginaw\, 48502\n\n2nd Floor\n\nThompson Dexel Building\n\nLocated south of the Secretary of State
X-ALT-DESC;FMTTYPE=text/html:Join Walethia Aquil to celebrate her move to Downtown Flint\n\n412 South Saginaw\, 48502\n\n2nd Floor\n\nThompson Dexel Building\n\nLocated south of the Secretary of State
LOCATION:
UID:e.2606.932
SEQUENCE:3
DTSTAMP:20260421T102031Z
URL:https://members.flintandgeneseechamber.org/events/details/ribbon-cutting-grace-and-charm-05-20-2014-932
END:VEVENT

END:VCALENDAR
