BEGIN:VCALENDAR
VERSION:2.0
PRODID:-//ChamberMaster//Event Calendar 2.0//EN
METHOD:PUBLISH
X-PUBLISHED-TTL:P3D
REFRESH-INTERVAL:P3D
CALSCALE:GREGORIAN
BEGIN:VEVENT
DTSTART:20240521T200000Z
DTEND:20240521T210000Z
X-MICROSOFT-CDO-ALLDAYEVENT:FALSE
SUMMARY:Ribbon Cutting & Grand Opening: Fuel'd
DESCRIPTION:Please join us for a ribbon cutting to celebrate the grand opening of Fuel'd\, Flint Township's newest destination for simple\, convenient & healthy food!  Featuring a "Create Your Own" style of ordering\, they specialize in stir fry\, salads\, & smoothies that are prepared from scratch & sourced locally.
X-ALT-DESC;FMTTYPE=text/html:Please join us for a ribbon cutting to celebrate the grand opening of Fuel&#39\;d\, Flint Township&#39\;s newest destination for simple\, convenient &amp\; healthy food!&nbsp\; Featuring a &quot\;Create Your Own&quot\; style of ordering\, they specialize in stir fry\, salads\, &amp\; smoothies that are prepared from scratch &amp\; sourced locally.&nbsp\;
LOCATION:3243 Miller Rd\, Flint 48507 Just west of I-75\, in same plaza as Starbucks\, at corner of Claude Ave\, on south side of Miller Rd.
UID:e.2606.18241
SEQUENCE:3
DTSTAMP:20260421T150605Z
URL:https://members.flintandgeneseechamber.org/events/details/ribbon-cutting-grand-opening-fuel-d-18241
END:VEVENT

END:VCALENDAR
