BEGIN:VCALENDAR
VERSION:2.0
PRODID:-//ChamberMaster//Event Calendar 2.0//EN
METHOD:PUBLISH
X-PUBLISHED-TTL:P3D
REFRESH-INTERVAL:P3D
CALSCALE:GREGORIAN
BEGIN:VEVENT
DTSTART:20250110T160000Z
DTEND:20250110T220000Z
X-MICROSOFT-CDO-ALLDAYEVENT:FALSE
SUMMARY:Ribbon Cutting & Grand Opening of 81ohm Massage & Co.
DESCRIPTION:We are excited to announce the grand opening of our wellness studio\, 81ohm Massage & Co! Join us for a special ribbon-cutting ceremony hosted by the Flint & Genesee Chamber of Commerce at 11 a.m.\, followed by our in-house celebration. Experience a day filled with relaxation and rejuvenation\, featuring chair massages and automated massage options available on-site. You can also book same-day appointments or pre-schedule your massage services. In addition to massages\, we will offer acudetox sessions throughout the day\, allowing you to explore different avenues of wellness.\n\nDon't miss out on delectable treats and goods created by local artisans. We look forward to celebrating this special day with you and helping you embark on your wellness journey!
X-ALT-DESC;FMTTYPE=text/html:<div>We are excited to announce the grand opening of our wellness studio\, 81ohm Massage &amp\; Co! Join us for a special ribbon-cutting ceremony hosted by the Flint &amp\; Genesee Chamber of Commerce at 11 a.m.\, followed by our in-house celebration. Experience a day filled with relaxation and rejuvenation\, featuring chair massages and automated massage options available on-site. You can also book same-day appointments or pre-schedule your massage services. In addition to massages\, we will offer acudetox sessions throughout the day\, allowing you to explore different avenues of wellness.<br />\nDon&rsquo\;t miss out on delectable treats and goods created by local artisans. We look forward to celebrating this special day with you and helping you embark on your wellness journey!</div>\n
LOCATION:140 East Second Street\, Suite 100\, Flint\, MI\, 48502
UID:e.2606.18789
SEQUENCE:3
DTSTAMP:20260422T163048Z
URL:https://members.flintandgeneseechamber.org/events/details/ribbon-cutting-grand-opening-of-81ohm-massage-co-18789
END:VEVENT

END:VCALENDAR
