BEGIN:VCALENDAR
VERSION:2.0
PRODID:-//ChamberMaster//Event Calendar 2.0//EN
METHOD:PUBLISH
X-PUBLISHED-TTL:P3D
REFRESH-INTERVAL:P3D
CALSCALE:GREGORIAN
BEGIN:VEVENT
DTSTART:20260108T200000Z
DTEND:20260109T000000Z
X-MICROSOFT-CDO-ALLDAYEVENT:FALSE
SUMMARY:Ribbon Cutting - Humane Society of Genesee County 100th Birthday!
DESCRIPTION:Celebrating our 100th Birthday! \n\n\n\nTours and refreshments will be available. Open house 3-7pm\, open to the public. Ribbon cutting ceremony will be at 3:30pm
X-ALT-DESC;FMTTYPE=text/html:Celebrating our 100th Birthday!&nbsp\;<br />\n<br />\nTours and refreshments will be available. Open house 3-7pm\, open to the public. Ribbon cutting ceremony will be at 3:30pm&nbsp\;
LOCATION:G-3325 S. Dort Hwy. Burton\, MI 48529
UID:e.2606.20198
SEQUENCE:3
DTSTAMP:20260421T174547Z
URL:https://members.flintandgeneseechamber.org/events/details/ribbon-cutting-humane-society-of-genesee-county-100th-birthday-20198
END:VEVENT

END:VCALENDAR
