BEGIN:VCALENDAR
VERSION:2.0
PRODID:-//ChamberMaster//Event Calendar 2.0//EN
METHOD:PUBLISH
X-PUBLISHED-TTL:P3D
REFRESH-INTERVAL:P3D
CALSCALE:GREGORIAN
BEGIN:VEVENT
DTSTART:20140516T220000Z
DTEND:20140517T020000Z
X-MICROSOFT-CDO-ALLDAYEVENT:FALSE
SUMMARY:Ribbon Cutting: Our Home Transitional
DESCRIPTION:Our Home Transitional along with their sister organizations - Of Impact\, LLC and SVMAP\, will hold a ribbon cutting ceremony to celebrate the opening of their new extension office\n\nG-3560 Flushing Road in Flint\n\nThe event runs from 6 p.m. until 10 p.m\n\nFree and open to the public.
X-ALT-DESC;FMTTYPE=text/html:Our Home Transitional along with their sister organizations - Of Impact\, LLC and SVMAP\, will hold a ribbon cutting ceremony to celebrate the opening of their new extension office\n\nG-3560 Flushing Road in Flint\n\nThe event runs from 6 p.m. until 10 p.m\n\nFree and open to the public.
LOCATION:
UID:e.2606.907
SEQUENCE:3
DTSTAMP:20260423T095205Z
URL:https://members.flintandgeneseechamber.org/events/details/ribbon-cutting-our-home-transitional-05-16-2014-907
END:VEVENT

END:VCALENDAR
