BEGIN:VCALENDAR
VERSION:2.0
PRODID:-//ChamberMaster//Event Calendar 2.0//EN
METHOD:PUBLISH
X-PUBLISHED-TTL:P3D
REFRESH-INTERVAL:P3D
CALSCALE:GREGORIAN
BEGIN:VEVENT
DTSTART:20131114T163000Z
DTEND:20131114T180000Z
X-MICROSOFT-CDO-ALLDAYEVENT:FALSE
SUMMARY:Ribbon Cutting - Paw Palace Fenton
DESCRIPTION:Celebrate the expansion of Paw Palace  at their new location in Fenton.\n\nThe reinvention of a warehouse space into more than 10\,000 square feet of a fun\, relaxed and inviting space for dogs and cats was recently completed.  The Paw Palace of Fenton offers supervised group play for dogs during the day\, deluxe overnight accommodations for pets spending the evening and select “s-paw” services.\n\n400 S Fenway\n\nFenton\, MI 48430\n\n810-714-3306
X-ALT-DESC;FMTTYPE=text/html:Celebrate the expansion of Paw Palace  at their new location in Fenton.\n\nThe reinvention of a warehouse space into more than 10\,000 square feet of a fun\, relaxed and inviting space for dogs and cats was recently completed.  The Paw Palace of Fenton offers supervised group play for dogs during the day\, deluxe overnight accommodations for pets spending the evening and select “s-paw” services.\n\n400 S Fenway\n\nFenton\, MI 48430\n\n810-714-3306
LOCATION:
UID:e.2606.602
SEQUENCE:3
DTSTAMP:20260421T190625Z
URL:https://members.flintandgeneseechamber.org/events/details/ribbon-cutting-paw-palace-fenton-11-14-2013-602
END:VEVENT

END:VCALENDAR
