BEGIN:VCALENDAR
VERSION:2.0
PRODID:-//ChamberMaster//Event Calendar 2.0//EN
METHOD:PUBLISH
X-PUBLISHED-TTL:P3D
REFRESH-INTERVAL:P3D
CALSCALE:GREGORIAN
BEGIN:VEVENT
DTSTART:20130808T143000Z
DTEND:20130808T210000Z
X-MICROSOFT-CDO-ALLDAYEVENT:FALSE
SUMMARY:Ribbon Cutting - (PMC) Placement Management Center - ''See Us Now'' Grand Reopening
DESCRIPTION:Flushing: (PMC) Placement Management Center and PMC Medical Staffing is holding a Ribbon Cutting on August 8\, 2013 @10:30am serving coffee\, juice\, and pastries. Following the ribbon cutting we will have an open house with beverages and hors d’oeuvres.\n\nWe will have give-a-ways throughout the day from area businesses. Stop in and “SEE US NOW”\n\nPMC Staffing has been serving businesses and industries in the I-69 Trade Corridor area for over 18 years. We were originally established in 1995 to provide local businesses with temporary staff and contract to hire personnel.\n\nPMC Staffing has a Medical and Industrial Division:\n\nThe Medical Division offers recruitment of permanent and short notice staff such as: medical receptionists\, assistants\, technicians\, PTs\, OTs\, massage therapists\, RNs\, LPNs\, EMTs\, and general clerical.\n\nThe Industrial Division offers recruitment of permanent and contract employees such as: general laborers\, machinists\, machine builders\, electricians\, IT specialist\, mechanical engineers\, electrical engineers\, programmers\, pipe fitters\, millwrights and supply chain.\n\n“SEE US NOW” as PMC has expanded it’s services.\n\nPMC now offers Co-Employment\, being your partner in Human Resource management\, loss control\, payroll\, and benefits. Our value proposition provides permanent placement including engineers and corporate executive officers.\n\nLocated in downtown Flushing with over 18 years of progressive partnership\, PMC provides positive employment solutions.  We have doubled our current space and the loft style exposed brick provides a warm and inviting atmosphere for clients\n\n“SEE US NOW”   We Put the Personal in Personnel.\n\nPMC Staffing is part of the Panter Group.   PMC-MEDICAL\, Placement Management Center are located in Flushing\;  Panter Master Controls and Sustainable Environmental Technologies are located in Mount Morris. The Panter Group is planning an additional expansion into the city of Flint.\n\nhttp://www.pmcworks.com
X-ALT-DESC;FMTTYPE=text/html:Flushing: (PMC) Placement Management Center and PMC Medical Staffing is holding a<strong> Ribbon Cutting</strong> on<strong> August 8<sup>\, </sup>2013 @10:30am</strong> serving coffee\, juice\, and pastries. Following the ribbon cutting we will have an open house with beverages and hors d’oeuvres.\n\nWe will have give-a-ways throughout the day from area businesses. Stop in and “SEE US NOW”\n\nPMC Staffing has been serving businesses and industries in the I-69 Trade Corridor area for over 18 years. We were originally established in 1995 to provide local businesses with temporary staff and contract to hire personnel.\n\nPMC Staffing has a Medical and Industrial Division:\n\nThe Medical Division offers recruitment of permanent and short notice staff such as: medical receptionists\, assistants\, technicians\, PTs\, OTs\, massage therapists\, RNs\, LPNs\, EMTs\, and general clerical.\n\nThe Industrial Division offers recruitment of permanent and contract employees such as: general laborers\, machinists\, machine builders\, electricians\, IT specialist\, mechanical engineers\, electrical engineers\, programmers\, pipe fitters\, millwrights and supply chain.\n\n“SEE US NOW” as PMC has expanded it’s services.\n\nPMC now offers Co-Employment\, being your partner in Human Resource management\, loss control\, payroll\, and benefits. Our value proposition provides permanent placement including engineers and corporate executive officers.\n\nLocated in downtown Flushing with over 18 years of progressive partnership\, PMC provides positive employment solutions.  We have doubled our current space and the loft style exposed brick provides a warm and inviting atmosphere for clients\n\n“SEE US NOW”   We Put the Personal in Personnel.\n\nPMC Staffing is part of the Panter Group.   PMC-MEDICAL\, Placement Management Center are located in Flushing\;  Panter Master Controls and Sustainable Environmental Technologies are located in Mount Morris. The Panter Group is planning an additional expansion into the city of Flint.\n\n<a href="http://www.pmcworks.com/">http://www.pmcworks.com</a>\n\n&nbsp\;
LOCATION:Placement Management Center 114 E. Main Street Flushing MI 48433
UID:e.2606.430
SEQUENCE:3
DTSTAMP:20260421T234429Z
URL:https://members.flintandgeneseechamber.org/events/details/ribbon-cutting-pmc-placement-management-center-see-us-now-grand-reopening-08-08-2013-430
END:VEVENT

END:VCALENDAR
