BEGIN:VCALENDAR
VERSION:2.0
PRODID:-//ChamberMaster//Event Calendar 2.0//EN
METHOD:PUBLISH
X-PUBLISHED-TTL:P3D
REFRESH-INTERVAL:P3D
CALSCALE:GREGORIAN
BEGIN:VEVENT
DTSTART:20260123T163000Z
DTEND:20260123T180000Z
X-MICROSOFT-CDO-ALLDAYEVENT:FALSE
SUMMARY:Ribbon Cutting - Rooted Lotus Yoga
DESCRIPTION:Join us for the Grand Opening & Ribbon Cutting for Rooted Lotus Yoga! Re-opening under new ownership and a new name! \n\n\n\nLocated inside Summerset Salon and Day Spa\, Rooted Lotus Yoga offers a wide range of classes\, at different times all week. Rooted Lotus Yoga sells clothing\, yoga mats\, and other small retail products from local vendors.  \n\nYou won't want to miss the new student special\, $99 for two months!
X-ALT-DESC;FMTTYPE=text/html:Join us for the Grand Opening &amp\; Ribbon Cutting for Rooted Lotus Yoga! Re-opening under new ownership and a new name!&nbsp\;<br />\n<br />\nLocated inside Summerset Salon and Day Spa\, Rooted Lotus Yoga offers a wide range of classes\, at different times all week. Rooted Lotus Yoga sells clothing\, yoga mats\, and other small retail products from local vendors.&nbsp\;&nbsp\;<br />\nYou won&#39\;t want to miss the new student special\, $99 for two months!&nbsp\;
LOCATION:3426 Miller Rd. Flint\, MI 48507 Inside Summerset Salon & Day Spa
UID:e.2606.20201
SEQUENCE:3
DTSTAMP:20260421T162555Z
URL:https://members.flintandgeneseechamber.org/events/details/ribbon-cutting-rooted-lotus-yoga-20201
END:VEVENT

END:VCALENDAR
