BEGIN:VCALENDAR
VERSION:2.0
PRODID:-//ChamberMaster//Event Calendar 2.0//EN
METHOD:PUBLISH
X-PUBLISHED-TTL:P3D
REFRESH-INTERVAL:P3D
CALSCALE:GREGORIAN
BEGIN:VEVENT
DTSTART:20131113T220000Z
DTEND:20131114T010000Z
X-MICROSOFT-CDO-ALLDAYEVENT:FALSE
SUMMARY:Ribbon Cutting: Sherman's Lounge
DESCRIPTION:After being in business for over 43 years in Flint\, Sherman's Lounge is proud to announce their grand reopening and ribbon cutting with the Flint & Genesee Chamber of Commerce.\n\nSherman's Lounge will unveil it's revised menu\, a new logo\, new signage and their beautiful front-side canopy.\n\nRibbon cutting will take place at 5:30 p.m.
X-ALT-DESC;FMTTYPE=text/html:After being in business for over 43 years in Flint\, Sherman's Lounge is proud to announce their grand reopening and ribbon cutting with the Flint &amp\; Genesee Chamber of Commerce.\n\nSherman's Lounge will unveil it's revised menu\, a new logo\, new signage and their beautiful front-side canopy.\n\nRibbon cutting will take place at 5:30 p.m.
LOCATION:Sherman's Lounge 4211 Fenton Road Flint MI 48507
UID:e.2606.605
SEQUENCE:3
DTSTAMP:20260421T185011Z
URL:https://members.flintandgeneseechamber.org/events/details/ribbon-cutting-sherman-s-lounge-11-13-2013-605
END:VEVENT

END:VCALENDAR
