BEGIN:VCALENDAR
VERSION:2.0
PRODID:-//ChamberMaster//Event Calendar 2.0//EN
METHOD:PUBLISH
X-PUBLISHED-TTL:P3D
REFRESH-INTERVAL:P3D
CALSCALE:GREGORIAN
BEGIN:VEVENT
DTSTART:20140621T163000Z
DTEND:20140621T173000Z
X-MICROSOFT-CDO-ALLDAYEVENT:FALSE
SUMMARY:''Roo Stars'' at Longway Planetarium
DESCRIPTION:Opie Opossum finds himself in Australia\, far from his home in Michigan. With the help from friends Reggie 'Roo and Patty Platypus\, along his travels back home\, Opie discovers a night sky full of stars very different from the ones he usually sees. Recommended for ages 4 to 6. For details and a schedule of upcoming shows visit www.sloanlongway.com.
X-ALT-DESC;FMTTYPE=text/html:Opie Opossum finds himself in Australia\, far from his home in Michigan. With the help from friends Reggie 'Roo and Patty Platypus\, along his travels back home\, Opie discovers a night sky full of stars very different from the ones he usually sees. Recommended for ages 4 to 6. For details and a schedule of upcoming shows visit <a title="Longway Planetarium " href="http://www.sloanlongway.com/" target="_blank">www.sloanlongway.com</a>.
LOCATION:Longway Planetarium 1310 E. Kearsley Street Flint Michigan
UID:e.2606.780
SEQUENCE:3
DTSTAMP:20260419T141408Z
URL:https://members.flintandgeneseechamber.org/events/details/roo-stars-at-longway-planetarium-06-21-2014-780
END:VEVENT

END:VCALENDAR
