BEGIN:VCALENDAR
VERSION:2.0
PRODID:-//ChamberMaster//Event Calendar 2.0//EN
METHOD:PUBLISH
X-PUBLISHED-TTL:P3D
REFRESH-INTERVAL:P3D
CALSCALE:GREGORIAN
BEGIN:VEVENT
DTSTART:20140423T163000Z
DTEND:20140423T203000Z
X-MICROSOFT-CDO-ALLDAYEVENT:FALSE
SUMMARY:Room Full of Referrals
DESCRIPTION:Your Behavioral Style IS Affecting Your Referralability\n\n	If you are in sales\, networking is a necessity. Discover how to leverage behavioral styles to make networking pay off!\n	Follow the Platinum Rule and have more meaningful\, profitable business relationships.\n	Learn how to quickly recognize the behavioral style of anyone and eliminate the uncomfortable moments.\n	Engage in more productive conversations with people who have different behavioral styles.\n\nJenny Dumont\, Franchise Owner of the Referral Institute Saginaw - Mid-Michigan's Referral Marketing Leader\, is the lifeline for businesses who struggle to attract new clients and generate referrals on a consistent and proactive basis and help you live your happily ever life! Visit www.jennydumont.com or call Jenny at (989) 714-9531.\n\nWorkshop price only $199 - Chamber members save $100\, making it $99 (email jennyd@referralinstitutesaginaw.com for Coupon Code).  Register online at www.referralinstitutesaginaw.com or email jennyd@referralinstitutesaginaw.com.
X-ALT-DESC;FMTTYPE=text/html:<em>Your Behavioral Style IS Affecting Your Referralability</em>\n<ul>\n	<li>If you are in sales\, networking is a necessity. Discover how to leverage behavioral styles to make networking pay off!</li>\n	<li>Follow the Platinum Rule and have more meaningful\, profitable business relationships.</li>\n	<li>Learn how to quickly recognize the behavioral style of anyone and eliminate the uncomfortable moments.</li>\n	<li>Engage in more productive conversations with people who have different behavioral styles.</li>\n</ul>\nJenny Dumont\, Franchise Owner of the Referral Institute Saginaw - Mid-Michigan's Referral Marketing Leader\, is the lifeline for businesses who struggle to attract new clients and generate referrals on a consistent and proactive basis and help you live your happily ever life! Visit <a href="http://www.jennydumont.com" target="_blank">www.jennydumont.com</a> or call Jenny at (989) 714-9531.\n\nWorkshop price only $199 - Chamber members save $100\, making it $99 (email <a href="mailto:jennyd@referralinstitutesaginaw.com" target="_blank">jennyd@referralinstitutesaginaw.com</a> for Coupon Code).  Register online at <a href="http://www.referralinstitutesaginaw.com/index.php/en-us/workshops/" target="_blank">www.referralinstitutesaginaw.com</a> or email <a href="mailto:jennyd@referralinstitutesaginaw.com" target="_blank">jennyd@referralinstitutesaginaw.com</a>.
LOCATION:Hampton Inn - Flint 6060 Rashelle Dr. Flint MI
UID:e.2606.837
SEQUENCE:3
DTSTAMP:20260421T112411Z
URL:https://members.flintandgeneseechamber.org/events/details/room-full-of-referrals-04-23-2014-837
END:VEVENT

END:VCALENDAR
