BEGIN:VCALENDAR
VERSION:2.0
PRODID:-//ChamberMaster//Event Calendar 2.0//EN
METHOD:PUBLISH
X-PUBLISHED-TTL:P3D
REFRESH-INTERVAL:P3D
CALSCALE:GREGORIAN
BEGIN:VEVENT
DTSTART:20131010T040000Z
DTEND:20131010T040000Z
X-MICROSOFT-CDO-ALLDAYEVENT:FALSE
SUMMARY:Run 4 Wine at The Jewel of Grand Blanc!
DESCRIPTION:"A Race Party like no other!"  -  Run/Walk 4 miles at the Jewel of Grand Blanc!\n\nThursday October 10\, 2013 at the Jewel of Grand Blanc\n\n4 mile Run starts at 6:00pm\n\n4 mile walk starts at 6:01pm\n\nFees:  (through September 30th)  $30\n\n(through October 1 -10th)  $35\n\nFirst 400 people who register get a etched wine glass!\n\nFor more information and registration call the Complete Runner at 810-233-8851\n\nRegister online at www.run4winerace.com
X-ALT-DESC;FMTTYPE=text/html:"A Race Party like no other!"  -  Run/Walk 4 miles at the Jewel of Grand Blanc!\n\nThursday October 10\, 2013 at the Jewel of Grand Blanc\n\n4 mile Run starts at 6:00pm\n\n4 mile walk starts at 6:01pm\n\nFees:  (through September 30th)  $30\n\n(through October 1 -10th)  $35\n\nFirst 400 people who register get a etched wine glass!\n\nFor more information and registration call the Complete Runner at 810-233-8851\n\nRegister online at <a href="http://www.run4winerace.com">www.run4winerace.com</a>\n\n&nbsp\;\n\n&nbsp\;\n\n&nbsp\;\n\n&nbsp\;\n\n&nbsp\;
LOCATION:
UID:e.2606.480
SEQUENCE:3
DTSTAMP:20260421T203255Z
URL:https://members.flintandgeneseechamber.org/events/details/run-4-wine-at-the-jewel-of-grand-blanc-10-10-2013-480
END:VEVENT

END:VCALENDAR
