BEGIN:VCALENDAR
VERSION:2.0
PRODID:-//ChamberMaster//Event Calendar 2.0//EN
METHOD:PUBLISH
X-PUBLISHED-TTL:P3D
REFRESH-INTERVAL:P3D
CALSCALE:GREGORIAN
BEGIN:VEVENT
DTSTART:20131010T220000Z
DTEND:20131011T020000Z
X-MICROSOFT-CDO-ALLDAYEVENT:FALSE
SUMMARY:''Run 4 Wine'' Hosted By The Jewel of Grand Blanc
DESCRIPTION:A Race Party like no other!!!    4  Mile Run/Walk\n\nThursday October 10\, The Jewel of Grand Blanc\n\nThe first 400 to register will receive as etched wine glass.  All participates get FREE entry into "after race" party including wine tasting\, buffet and tickets for wine.  ( After race party $10 for non-racers)\n\nto register online go to www.run4winerace.com\n\nFor more information call the Complete Runner 810-233-8851
X-ALT-DESC;FMTTYPE=text/html:A Race Party like no other!!!    4  Mile Run/Walk\n\nThursday October 10\, The Jewel of Grand Blanc\n\nThe first 400 to register will receive as etched wine glass.  All participates get FREE entry into "after race" party including wine tasting\, buffet and tickets for wine.  ( After race party $10 for non-racers)\n\nto register online go to <a href="http://www.run4winerace.com">www.run4winerace.com</a>\n\nFor more information call the Complete Runner 810-233-8851\n\n&nbsp\;\n\n&nbsp\;\n\n&nbsp\;
LOCATION:The Jewel of Grand Blanc 5270 Perry Road Grand Blanc MI 48439
UID:e.2606.481
SEQUENCE:3
DTSTAMP:20260421T203255Z
URL:https://members.flintandgeneseechamber.org/events/details/run-4-wine-hosted-by-the-jewel-of-grand-blanc-10-10-2013-481
END:VEVENT

END:VCALENDAR
