BEGIN:VCALENDAR
VERSION:2.0
PRODID:-//ChamberMaster//Event Calendar 2.0//EN
METHOD:PUBLISH
X-PUBLISHED-TTL:P3D
REFRESH-INTERVAL:P3D
CALSCALE:GREGORIAN
BEGIN:VEVENT
DTSTART:20240527T170000Z
DTEND:20240527T200000Z
X-MICROSOFT-CDO-ALLDAYEVENT:FALSE
SUMMARY:Sacred Heart Veteran Village Memorial Day Cookout
DESCRIPTION:Join us this Memorial Day at the future site of the Sacred Heart Veteran Village for food\, music (the Stickler Brothers)\, bounce house\, tug of war\, raffles and pie toss! The event is free to attend and all are welcome! All proceeds benefit the Village! \n\n\n\nSponsorship opportunities available!  Call 810-232-9950 ext 111 or email GiveHope@ccsgc.org
X-ALT-DESC;FMTTYPE=text/html:<span style="color:rgb(5\, 5\, 5)\; font-family:segoe ui historic\,segoe ui\,helvetica\,arial\,sans-serif\; font-size:15px">Join us this Memorial Day at the future site of the Sacred Heart Veteran Village for food\, music (the Stickler Brothers)\, bounce house\, tug of war\, raffles and pie toss! The event is free to attend and all are welcome! All proceeds benefit the Village!</span><span style="color:rgb(5\, 5\, 5)\; font-family:segoe ui historic\,segoe ui\,helvetica\,arial\,sans-serif\; font-size:15px">&nbsp\;</span><br />\n<br />\nSponsorship opportunities available!&nbsp\; Call 810-232-9950 ext 111 or email GiveHope@ccsgc.org
LOCATION:729 E. Moore Street\, Flint MI 48505
UID:e.2606.18190
SEQUENCE:3
DTSTAMP:20260421T151859Z
URL:https://members.flintandgeneseechamber.org/events/details/sacred-heart-veteran-village-memorial-day-cookout-18190
END:VEVENT

END:VCALENDAR
