BEGIN:VCALENDAR
VERSION:2.0
PRODID:-//ChamberMaster//Event Calendar 2.0//EN
METHOD:PUBLISH
X-PUBLISHED-TTL:P3D
REFRESH-INTERVAL:P3D
CALSCALE:GREGORIAN
BEGIN:VEVENT
DTSTART:20140410T120000Z
DTEND:20140410T140000Z
X-MICROSOFT-CDO-ALLDAYEVENT:FALSE
SUMMARY:Sales Lead Roundtable
DESCRIPTION:Flint & Genesee Chamber of Commerce's monthly lead sharing group.\n\nMust be a current Member of the Chamber to participate.\n\nGroup is by invitation only\, if you are interested in attending\, please contact:\n\nSusana Wight\, Member Services Sales Manager\n\n810-600-1408 or via email\, swight@flintandgenesee.org.
X-ALT-DESC;FMTTYPE=text/html:Flint &amp\; Genesee Chamber of Commerce's monthly lead sharing group.\n\nMust be a current Member of the Chamber to participate.\n\nGroup is by invitation only\, if you are interested in attending\, please contact:\n\nSusana Wight\, Member Services Sales Manager\n\n810-600-1408 or via email\, swight@flintandgenesee.org.
LOCATION:
UID:e.2606.862
SEQUENCE:3
DTSTAMP:20260421T112119Z
URL:https://members.flintandgeneseechamber.org/events/details/sales-lead-roundtable-04-10-2014-862
END:VEVENT

END:VCALENDAR
