BEGIN:VCALENDAR
VERSION:2.0
PRODID:-//ChamberMaster//Event Calendar 2.0//EN
METHOD:PUBLISH
X-PUBLISHED-TTL:P3D
REFRESH-INTERVAL:P3D
CALSCALE:GREGORIAN
BEGIN:VEVENT
DTSTART;VALUE=DATE:20131207
DTEND;VALUE=DATE:20131208
TRANSP:TRANSPARENT
X-MICROSOFT-CDO-ALLDAYEVENT:TRUE
SUMMARY:Santa Run 2013
DESCRIPTION:The Santa Run is a fun event\, and is the main fundraiser for the Flint YMCA Partnership with Youth. The Partnership with Youth Campaign works primarily with the under privileged children of Flint and provides camp sponsorships\, swimming lessons\, transportation to these events\, and more. http://www.flintymca.org/santarun/
X-ALT-DESC;FMTTYPE=text/html:The Santa Run is a fun event\, and is the main fundraiser for the Flint YMCA Partnership with Youth. The Partnership with Youth Campaign works primarily with the under privileged children of Flint and provides camp sponsorships\, swimming lessons\, transportation to these events\, and more. <a href="http://www.flintymca.org/santarun/">http://www.flintymca.org/santarun/</a>
LOCATION:
UID:e.2606.604
SEQUENCE:3
DTSTAMP:20260421T171238Z
URL:https://members.flintandgeneseechamber.org/events/details/santa-run-2013-12-07-2013-604
END:VEVENT

END:VCALENDAR
