BEGIN:VCALENDAR
VERSION:2.0
PRODID:-//ChamberMaster//Event Calendar 2.0//EN
METHOD:PUBLISH
X-PUBLISHED-TTL:P3D
REFRESH-INTERVAL:P3D
CALSCALE:GREGORIAN
BEGIN:VEVENT
DTSTART:20130727T160000Z
DTEND:20131027T210000Z
X-MICROSOFT-CDO-ALLDAYEVENT:FALSE
SUMMARY:''Science in Motion: The Photographic Studies of Eadweard Muybridge\, Berenice Abbott and Harold Edgerton'' exhibition at the Flint Institute of Arts
DESCRIPTION:Photography itself was born out of a passionate engagement between art and science. The medium's pioneers were inventors\, scientists and mathematicians. The results of their intellectual endeavors dramatically affected the art form and forged a reciprocal relationship between art and science in photography that has continued to this day. This exhibition of some 40 photographs offer a rich and extensive view of the scientific studies done by Muybridge\, Abbott and Edgerton\, which invented devices to study and represent aspects of light and motion scientifically and photographically.\n\nFIA is open Monday-Wednesday & Friday 12 p.m. to 5 p.m.\, Thursday 12 p.m. to 9 p.m.\, Saturday 10 a.m. to 5 p.m. and Sunday 1 p.m. to 5 p.m. For details and a schedule of upcoming exhibits visit www.flintarts.org.
X-ALT-DESC;FMTTYPE=text/html:Photography itself was born out of a passionate engagement between art and science. The medium's pioneers were inventors\, scientists and mathematicians. The results of their intellectual endeavors dramatically affected the art form and forged a reciprocal relationship between art and science in photography that has continued to this day. This exhibition of some 40 photographs offer a rich and extensive view of the scientific studies done by Muybridge\, Abbott and Edgerton\, which invented devices to study and represent aspects of light and motion scientifically and photographically.\n\nFIA is open Monday-Wednesday &amp\; Friday 12 p.m. to 5 p.m.\, Thursday 12 p.m. to 9 p.m.\, Saturday 10 a.m. to 5 p.m. and Sunday 1 p.m. to 5 p.m. For details and a schedule of upcoming exhibits visit <a title="Flint Institute of Arts" href="http://flintarts.org" target="_blank">www.flintarts.org</a>.
LOCATION:Flint Institute of Arts 1120 E. Kearsley Street Flint MI 48502
UID:e.2606.235
SEQUENCE:3
DTSTAMP:20260421T203424Z
URL:https://members.flintandgeneseechamber.org/events/details/science-in-motion-the-photographic-studies-of-eadweard-muybridge-berenice-abbott-and-harold-edgerton-exhibition-at-the-flint-institute-of-arts-07-27-2013-235
END:VEVENT

END:VCALENDAR
