BEGIN:VCALENDAR
VERSION:2.0
PRODID:-//ChamberMaster//Event Calendar 2.0//EN
METHOD:PUBLISH
X-PUBLISHED-TTL:P3D
REFRESH-INTERVAL:P3D
CALSCALE:GREGORIAN
BEGIN:VEVENT
DTSTART;VALUE=DATE:20130216
DTEND;VALUE=DATE:20130527
TRANSP:TRANSPARENT
X-MICROSOFT-CDO-ALLDAYEVENT:TRUE
SUMMARY:Sesame Street Presents: “The Body”
DESCRIPTION:www.sloanlongway.org
X-ALT-DESC;FMTTYPE=text/html:<a href="http://www.sloanlongway.org/" target="_blank">www.sloanlongway.org</a>
LOCATION:Sloan Museum 1221 E. Kearsley Street Flint Michigan 48503
UID:e.2606.85
SEQUENCE:3
DTSTAMP:20260422T042032Z
URL:https://members.flintandgeneseechamber.org/events/details/sesame-street-presents-the-body-02-16-2013-85
END:VEVENT

END:VCALENDAR
