BEGIN:VCALENDAR
VERSION:2.0
PRODID:-//ChamberMaster//Event Calendar 2.0//EN
METHOD:PUBLISH
X-PUBLISHED-TTL:P3D
REFRESH-INTERVAL:P3D
CALSCALE:GREGORIAN
BEGIN:VEVENT
DTSTART;VALUE=DATE:20130503
DTEND;VALUE=DATE:20130513
TRANSP:TRANSPARENT
X-MICROSOFT-CDO-ALLDAYEVENT:TRUE
SUMMARY:Seussical - Clio Cast and Crew
DESCRIPTION:Clio Cast and Crew\n\nwww.cliocastandcrew.com
X-ALT-DESC;FMTTYPE=text/html:Clio Cast and Crew\n\n<a href="http://www.cliocastandcrew.com/">www.cliocastandcrew.com</a>
LOCATION:Clio Cast and Crew 2220 West Vienna Rd Clio Michigan 48420
UID:e.2606.39
SEQUENCE:3
DTSTAMP:20260422T041704Z
URL:https://members.flintandgeneseechamber.org/events/details/seussical-clio-cast-and-crew-05-03-2013-39
END:VEVENT

END:VCALENDAR
