BEGIN:VCALENDAR
VERSION:2.0
PRODID:-//ChamberMaster//Event Calendar 2.0//EN
METHOD:PUBLISH
X-PUBLISHED-TTL:P3D
REFRESH-INTERVAL:P3D
CALSCALE:GREGORIAN
BEGIN:VEVENT
DTSTART:20131024T010000Z
DTEND:20131024T053000Z
X-MICROSOFT-CDO-ALLDAYEVENT:FALSE
SUMMARY:Sherman's Lounge presents The Steven Roth Band
DESCRIPTION:Sherman’s is proud to welcome from Los Angeles\, CA\, the Steven Roth Band to Flint\, MI!\n\nComing across an artist or entertainer in Los Angeles is equivalent to finding trees in the forest. The entertainment capital of the world is oversaturated with self-proclaimed artists and talented individuals desperately waiting for discovery before the masses. Some fade into obscurity\, others achieve mild exposure and few reach unimaginable territories. Performing at small local venues\, like Sherman’s are merely stepping stones to sell-out crowds in big cities. Singer and songwriter Steven Roth is the next big thing to appear from the City of Angels and he’s calmly waiting to be escorted into the next category… and he is coming to Flint\, Michigan!\n\nWith a three-piece outfit accompanying Roth on stage\, the vintage blues folk rock promises to grasp the audience\, and seduce attendees Wednesday\, October 23 with soothing melodies and confident lyrics. Throughout the night\, Sherman’s should be transformed into another dimension\, breaking away from its normal routine of promoting only local bands.\n\nAfter opening for the Who at the Staples Center in LA earlier this year\, Steven Roth is certain not to disappoint.\n\nMore information on this and other events is available at shermanslounge.com.\n\nAdmission: Free
X-ALT-DESC;FMTTYPE=text/html:Sherman’s is proud to welcome from Los Angeles\, CA\, the Steven Roth Band to Flint\, MI!\n\nComing across an artist or entertainer in Los Angeles is equivalent to finding trees in the forest. The entertainment capital of the world is oversaturated with self-proclaimed artists and talented individuals desperately waiting for discovery before the masses. Some fade into obscurity\, others achieve mild exposure and few reach unimaginable territories. Performing at small local venues\, like Sherman’s are merely stepping stones to sell-out crowds in big cities. Singer and songwriter Steven Roth is the next big thing to appear from the City of Angels and he’s calmly waiting to be escorted into the next category… and he is coming to Flint\, Michigan!\n\nWith a three-piece outfit accompanying Roth on stage\, the vintage blues folk rock promises to grasp the audience\, and seduce attendees Wednesday\, October 23 with soothing melodies and confident lyrics. Throughout the night\, Sherman’s should be transformed into another dimension\, breaking away from its normal routine of promoting only local bands.\n\nAfter opening for the Who at the Staples Center in LA earlier this year\, Steven Roth is certain not to disappoint.\n\nMore information on this and other events is available at <a href="http://www.shermanslounge.com" target="_blank">shermanslounge.com</a>.\n\nAdmission: Free
LOCATION:Sherman’s Lounge 4211 Fenton Rd. Flint MI 48507
UID:e.2606.581
SEQUENCE:3
DTSTAMP:20260421T203045Z
URL:https://members.flintandgeneseechamber.org/events/details/sherman-s-lounge-presents-the-steven-roth-band-10-23-2013-581
END:VEVENT

END:VCALENDAR
