BEGIN:VCALENDAR
VERSION:2.0
PRODID:-//ChamberMaster//Event Calendar 2.0//EN
METHOD:PUBLISH
X-PUBLISHED-TTL:P3D
REFRESH-INTERVAL:P3D
CALSCALE:GREGORIAN
BEGIN:VEVENT
DTSTART:20131121T230000Z
DTEND:20131122T020000Z
X-MICROSOFT-CDO-ALLDAYEVENT:FALSE
SUMMARY:Shoe Carnival - FGCC Member Discount Day
DESCRIPTION:Shoe Carnival Chamber Member Discount Day\n\nChamber members\, staff and families receive an additional 30% off.    See flyer for details.  Must present flyer to receive the discount.\n\n810-732-0259
X-ALT-DESC;FMTTYPE=text/html:Shoe Carnival Chamber Member Discount Day\n\nChamber members\, staff and families receive an additional 30% off.    See <a href="http://www.flintandgenesee.org/wp-content/themes/flintgenesee/pdf/shoeCarnival_coupon.pdf" target="_blank">flyer</a> for details.  Must present <a href="http://www.flintandgenesee.org/wp-content/themes/flintgenesee/pdf/shoeCarnival_coupon.pdf" target="_blank">flyer</a> to receive the discount.\n\n810-732-0259
LOCATION:Shoe Carnival 3192 S. Linden Road Flint MI 48507
UID:e.2606.618
SEQUENCE:3
DTSTAMP:20260421T184929Z
URL:https://members.flintandgeneseechamber.org/events/details/shoe-carnival-fgcc-member-discount-day-11-21-2013-618
END:VEVENT

END:VCALENDAR
